BEGIN:VCALENDAR
VERSION:2.0
PRODID:-//ChamberMaster//Event Calendar 2.0//EN
METHOD:PUBLISH
X-PUBLISHED-TTL:P3D
REFRESH-INTERVAL:P3D
CALSCALE:GREGORIAN
BEGIN:VEVENT
DTSTART:20121115T184500Z
DTEND:20121115T200000Z
X-MICROSOFT-CDO-ALLDAYEVENT:FALSE
SUMMARY:TYP Lunch with Leaders
DESCRIPTION:TYP Lunch with Leaders\nSpeaker: Senator Nancy Collins\nThursday\, November 15\, 2012\n11:45 a.m. – 1:00 p.m.\nCommunity Development Foundation\n398 E Main St.\, CDF Center\n$10\, includes lunch
X-ALT-DESC;FMTTYPE=text/html:<p align="center"><font size="3"><font face="Times New Roman">\n\n<strong>TYP</strong> </font></font><font size="3" face="Times New Roman"><strong>Lunch with Leaders<br></strong>Speaker: Senator Nancy Collins<br>Thursday\, November 15\, 2012<br>11:45 a.m. – 1:00 p.m.<br>Community Development Foundation<br>398 E Main St.\, CDF Center<br>$10\, includes lunch</font></p>
LOCATION:CDF BOARDROOM
UID:e.2161.74
SEQUENCE:3
DTSTAMP:20260420T163201Z
URL:http://cdfms.chambermaster.com/events/details/typ-lunch-with-leaders-11-15-2012-74
END:VEVENT

END:VCALENDAR
