BEGIN:VCALENDAR
VERSION:2.0
PRODID:-//ChamberMaster//Event Calendar 2.0//EN
METHOD:PUBLISH
X-PUBLISHED-TTL:P3D
REFRESH-INTERVAL:P3D
CALSCALE:GREGORIAN
BEGIN:VEVENT
DTSTART:20120719T164500Z
DTEND:20120719T180000Z
X-MICROSOFT-CDO-ALLDAYEVENT:FALSE
SUMMARY:TYP Lunch with Leaders
DESCRIPTION:TYP Lunch with Leaders\nSpeaker: Mayor Jack Reed\, Jr.\nThursday\, July 19\, 2012\n11:45 a.m. – 1:00 p.m.\nCommunity Development Foundation\n398 E Main St.\, CDF Center\n$10\, includes lunch
X-ALT-DESC;FMTTYPE=text/html:<p align="center"><font size="3"><font face="Times New Roman">\n\n<strong>TYP</strong> </font></font><font face="Times New Roman" size="3"><strong>Lunch with Leaders<br></strong>Speaker: Mayor Jack Reed\, Jr.<br>Thursday\, July 19\, 2012<br>11:45 a.m. – 1:00 p.m.<br>Community Development Foundation<br>398 E Main St.\, CDF Center<br>$10\, includes lunch</font></p>
LOCATION:CDF BOARDROOM
UID:e.2161.62
SEQUENCE:3
DTSTAMP:20260419T181151Z
URL:http://cdfms.chambermaster.com/events/details/typ-lunch-with-leaders-07-19-2012-62
END:VEVENT

END:VCALENDAR
