BEGIN:VCALENDAR
VERSION:2.0
PRODID:-//ChamberMaster//Event Calendar 2.0//EN
METHOD:PUBLISH
X-PUBLISHED-TTL:P3D
REFRESH-INTERVAL:P3D
CALSCALE:GREGORIAN
BEGIN:VEVENT
DTSTART:20120918T210000Z
DTEND:20120918T220000Z
X-MICROSOFT-CDO-ALLDAYEVENT:FALSE
SUMMARY:New Member Networking
DESCRIPTION:New Member Networking is open to all new CDF members and new employees of current CDF members.
X-ALT-DESC;FMTTYPE=text/html:<font size="3" face="Times New Roman">\n\n</font><p style="margin: 0in 0in 0pt\;" class="MsoNormal" align="center"><b><span style="font-family: &quot\;Maiandra GD&quot\;\,&quot\;sans-serif&quot\;\;"><font size="4"><br>New Member Networking is open to all new CDF members and new employees of current CDF members.</font></span></b></p><font size="3" face="Times New Roman">\n\n</font>
LOCATION:CDF BOARDROOM
UID:e.2161.72
SEQUENCE:3
DTSTAMP:20260419T172504Z
URL:http://cdfms.chambermaster.com/events/details/new-member-networking-09-18-2012-72
END:VEVENT

END:VCALENDAR
