BEGIN:VCALENDAR
VERSION:2.0
PRODID:-//ChamberMaster//Event Calendar 2.0//EN
METHOD:PUBLISH
X-PUBLISHED-TTL:P3D
REFRESH-INTERVAL:P3D
CALSCALE:GREGORIAN
BEGIN:VEVENT
DTSTART:20120412T180000Z
DTEND:20120412T210000Z
X-MICROSOFT-CDO-ALLDAYEVENT:FALSE
SUMMARY:Media Training Seminar
DESCRIPTION:Gumbo Media Relations\nSponsored by the CDF Chamber of Commerce Division \n\nPresented by:\nDr. Joseph V. Trahan\, III\, APR\, Fellow\, PRSA\n\nA New Orleans native\, Dr. Joseph V. Trahan\, III\, has over twenty-nine years of public relations/affairs experience in governmental\, association\, and educational and non-profit public relations.\n \nThursday\, April 12\, 2012 \n1:00 p.m. - 4:00 p.m. \nCDF Boardroom \n398 E Main St.\, CDF Center \n \nCost: $50 for CDF Members \n$100 for Non Members \n\nAt this session\, participants will learn: \n \nNow more than ever the media is watching everything you do. If they can't get the answers from you\, they're going to get them somewhere else\, and someone else's answers may not be correct. But\, can you be in control of what the media is reporting? With Trahan & Associates-Yes\, you can!\n    \n   This course teaches you how to get a handle on the media by organizing a communications plan and preparing to speak on camera. You will learn how the media thinks and how to develop a message to reach them. Find out what reporters want\, need and expect. In addition\, this course shows you how to build good working relationships with the media\, a factor often overlooked but very important to maintain.\n \n   Positive public relations doesn't just happen\; it's a proactive job that takes focus and foresight. It is our belief that you must be aggressive in getting your message out to the public. First\, learn how to identify and fine-tune your company's message. Then with our help\, you will develop creative and innovative ways to promote that message throughout your community.
X-ALT-DESC;FMTTYPE=text/html:Gumbo Media Relations<br />Sponsored by the CDF Chamber of Commerce Division <br /><br />Presented by:<br />Dr. Joseph V. Trahan\, III\, APR\, Fellow\, PRSA<br /><br />A New Orleans native\, Dr. Joseph V. Trahan\, III\, has over twenty-nine years of public relations/affairs experience in governmental\, association\, and educational and non-profit public relations.<br /> <br />Thursday\, April 12\, 2012 <br />1:00 p.m. - 4:00 p.m. <br />CDF Boardroom <br />398 E Main St.\, CDF Center <br /> <br />Cost: $50 for CDF Members <br />$100 for Non Members <br /><br />At this session\, participants will learn: <br /> <br />Now more than ever the media is watching everything you do. If they can't get the answers from you\, they're going to get them somewhere else\, and someone else's answers may not be correct. But\, can you be in control of what the media is reporting? With Trahan &amp\; Associates-Yes\, you can!<br />    <br />   This course teaches you how to get a handle on the media by organizing a communications plan and preparing to speak on camera. You will learn how the media thinks and how to develop a message to reach them. Find out what reporters want\, need and expect. In addition\, this course shows you how to build good working relationships with the media\, a factor often overlooked but very important to maintain.<br /> <br />   Positive public relations doesn't just happen\; it's a proactive job that takes focus and foresight. It is our belief that you must be aggressive in getting your message out to the public. First\, learn how to identify and fine-tune your company's message. Then with our help\, you will develop creative and innovative ways to promote that message throughout your community.
LOCATION:CDF CENTER
UID:e.2161.53
SEQUENCE:3
DTSTAMP:20260420T213335Z
URL:http://cdfms.chambermaster.com/events/details/media-training-seminar-04-12-2012-53
END:VEVENT

END:VCALENDAR
