BEGIN:VCALENDAR
VERSION:2.0
PRODID:-//ChamberMaster//Event Calendar 2.0//EN
METHOD:PUBLISH
X-PUBLISHED-TTL:P3D
REFRESH-INTERVAL:P3D
CALSCALE:GREGORIAN
BEGIN:VEVENT
DTSTART:20120315T163000Z
DTEND:20120315T180000Z
X-MICROSOFT-CDO-ALLDAYEVENT:FALSE
SUMMARY:Creating a Marketing Plan Seminar
DESCRIPTION:The Renasant Center for IDEAs and the Center for Creative Entrepreneurship present: Creating a Marketing PlanPresented by:Mr. Josh MabusOwnerThe Mabus Agency Thursday\, March 15\, 201211:30 a.m. - 1:00 p.m.Renasant Center for IDEAs\, Second Floor398 E Main St.  Cost to participate is $10 and includes a boxed lunch.
X-ALT-DESC;FMTTYPE=text/html:<div id="irmControl1_ucEventDetails_pnlDescription"> <div>The Renasant Center for IDEAs and the Center for Creative Entrepreneurship present:</div><div>&nbsp\;</div><div>Creating a Marketing Plan</div><div>Presented by:</div><div>Mr. Josh Mabus</div><div>Owner</div><div>The Mabus Agency</div><div>&nbsp\;</div><div>Thursday\, March 15\, 2012</div><div>11:30 a.m. - 1:00 p.m.</div><div>Renasant Center for IDEAs\, Second Floor</div><div>398 E Main St. </div><div>&nbsp\;</div><div>Cost to participate is $10 and includes a boxed lunch. </div> </div>
LOCATION:Renasant Center for IDEAs
UID:e.2161.52
SEQUENCE:3
DTSTAMP:20260423T053944Z
URL:http://cdfms.chambermaster.com/events/details/creating-a-marketing-plan-seminar-03-15-2012-52
END:VEVENT

END:VCALENDAR
